BEGIN:VCALENDAR
VERSION:2.0
PRODID:-//Drupal iCal API//EN
X-WR-CALNAME:Events items teaser
X-WR-TIMEZONE:America/Toronto
BEGIN:VTIMEZONE
TZID:America/Toronto
X-LIC-LOCATION:America/Toronto
BEGIN:DAYLIGHT
TZNAME:EDT
TZOFFSETFROM:-0500
TZOFFSETTO:-0400
DTSTART:20170312T070000
END:DAYLIGHT
BEGIN:STANDARD
TZNAME:EST
TZOFFSETFROM:-0400
TZOFFSETTO:-0500
DTSTART:20171105T060000
END:STANDARD
END:VTIMEZONE
BEGIN:VEVENT
UID:69e3a5c9193a2
DTSTART;TZID=America/Toronto:20171209T190000
SEQUENCE:0
TRANSP:TRANSPARENT
DTEND;TZID=America/Toronto:20171209T190000
URL:https://uwaterloo.ca/math/events/public-lecture-adrien-pouliot-lecture
LOCATION:M3 - Mathematics 3 200 University Avenue West 1003 Waterloo ON N2L
  3G1 Canada
SUMMARY:Public lecture: Adrien Pouliot Lecture
CLASS:PUBLIC
DESCRIPTION:[Richard Hoshino] In this informal and interactive presentation
 \,\nwinner Richard Hoshino will present four of his favourite math\nproble
 ms\, and share stories of how these problems have led to\nauthentic mathem
 atical experiences for both high school students and\nundergraduates. He w
 ill share his story through these four problems\,\nwhich will simultaneous
 ly be accessible to high school students and\nchallenge the math professor
 s in the audience.
DTSTAMP:20260418T153953Z
END:VEVENT
END:VCALENDAR