BEGIN:VCALENDAR
VERSION:2.0
PRODID:-//Drupal iCal API//EN
X-WR-CALNAME:Events items teaser
X-WR-TIMEZONE:America/Toronto
BEGIN:VTIMEZONE
TZID:America/Toronto
X-LIC-LOCATION:America/Toronto
BEGIN:DAYLIGHT
TZNAME:EDT
TZOFFSETFROM:-0500
TZOFFSETTO:-0400
DTSTART:20240310T070000
END:DAYLIGHT
BEGIN:STANDARD
TZNAME:EST
TZOFFSETFROM:-0400
TZOFFSETTO:-0500
DTSTART:20241103T060000
END:STANDARD
END:VTIMEZONE
BEGIN:VEVENT
UID:69ed8166837fd
DTSTART;TZID=America/Toronto:20241216T130000
SEQUENCE:0
TRANSP:TRANSPARENT
DTEND;TZID=America/Toronto:20241216T140000
URL:https://uwaterloo.ca/math/events/graduate-data-science-prospective-stud
 ent-admissions-webinar
SUMMARY:Graduate Data Science Prospective Student Admissions Webinar | ASK 
 ME\nANYTHING!
CLASS:PUBLIC
DESCRIPTION:Considering a Masters in Data Science at the University of Wate
 rloo?\n Want to know what it takes to get in?  Join this ASK ME ANYTHING
 \nWebinar to get live answers to your admission questions!
DTSTAMP:20260426T030718Z
END:VEVENT
END:VCALENDAR