BEGIN:VCALENDAR
VERSION:2.0
PRODID:-//Drupal iCal API//EN
X-WR-CALNAME:Events items teaser
X-WR-TIMEZONE:America/Toronto
BEGIN:VTIMEZONE
TZID:America/Toronto
X-LIC-LOCATION:America/Toronto
BEGIN:DAYLIGHT
TZNAME:EDT
TZOFFSETFROM:-0500
TZOFFSETTO:-0400
DTSTART:20170312T070000
END:DAYLIGHT
BEGIN:STANDARD
TZNAME:EST
TZOFFSETFROM:-0400
TZOFFSETTO:-0500
DTSTART:20171105T060000
END:STANDARD
END:VTIMEZONE
BEGIN:VEVENT
UID:69e3a5e065068
DTSTART;TZID=America/Toronto:20171208T170000
SEQUENCE:0
TRANSP:TRANSPARENT
DTEND;TZID=America/Toronto:20171208T170000
URL:https://uwaterloo.ca/math/events/public-lecture-how-always-win-limbo
LOCATION:Delta Hotels Waterloo 110 Erb St. W Ballroom Waterloo ON N2L 0C6 C
 anada
SUMMARY:Public lecture: How Always to Win at Limbo
CLASS:PUBLIC
DESCRIPTION:CMS PUBLIC LECTURE BY EDWARD B. BURGER\n\nor \"You can sum some
  of the series some of the time\, and some of the\nseries none of the time
 ...but can you sum some of the series all of\nthe time?\"
DTSTAMP:20260418T154016Z
END:VEVENT
END:VCALENDAR