BEGIN:VCALENDAR
VERSION:2.0
PRODID:-//Drupal iCal API//EN
X-WR-CALNAME:Events items teaser
X-WR-TIMEZONE:America/Toronto
BEGIN:VTIMEZONE
TZID:America/Toronto
X-LIC-LOCATION:America/Toronto
BEGIN:DAYLIGHT
TZNAME:EDT
TZOFFSETFROM:-0500
TZOFFSETTO:-0400
DTSTART:20170312T070000
END:DAYLIGHT
BEGIN:STANDARD
TZNAME:EST
TZOFFSETFROM:-0400
TZOFFSETTO:-0500
DTSTART:20171105T060000
END:STANDARD
END:VTIMEZONE
BEGIN:VEVENT
UID:69ed3a00f21ec
DTSTART;TZID=America/Toronto:20180125T093000
SEQUENCE:0
TRANSP:TRANSPARENT
DTEND;TZID=America/Toronto:20180125T151500
URL:https://uwaterloo.ca/math/events/secrets-successful-uw-math-alumni
LOCATION:Davis Centre 200 University Ave DC 1302 Waterloo ON N2L 3G1 Canada
SUMMARY:Secrets of (Successful) UW Math Alumni
CLASS:PUBLIC
DESCRIPTION:[seminar] The Faculty of Mathematics is exceptionally proud of 
 our\nalumni for their outstanding accomplishments\, innovation\, and\nachi
 evements within their communities and professions. \n\nJoin us for an aft
 ernoon of inspiring and informative discussions\npresented by the 2017 A
 LUMNI ACHIEVEMENT MEDAL AWARD RECIPIENTS: \n \nMORNING DISCUSSIONS:
DTSTAMP:20260425T220241Z
END:VEVENT
END:VCALENDAR