BEGIN:VCALENDAR
VERSION:2.0
PRODID:-//Drupal iCal API//EN
X-WR-CALNAME:Events items teaser
X-WR-TIMEZONE:America/Toronto
BEGIN:VTIMEZONE
TZID:America/Toronto
X-LIC-LOCATION:America/Toronto
BEGIN:DAYLIGHT
TZNAME:EDT
TZOFFSETFROM:-0500
TZOFFSETTO:-0400
DTSTART:20240310T070000
END:DAYLIGHT
BEGIN:STANDARD
TZNAME:EST
TZOFFSETFROM:-0400
TZOFFSETTO:-0500
DTSTART:20241103T060000
END:STANDARD
END:VTIMEZONE
BEGIN:VEVENT
UID:69ecdae13137c
DTSTART;TZID=America/Toronto:20250204T100000
SEQUENCE:0
TRANSP:TRANSPARENT
DTEND;TZID=America/Toronto:20250204T110000
URL:https://uwaterloo.ca/math/events/nvidia-lecture-tools-safety-and-securi
 ty-large-language
LOCATION:MC - Mathematics &amp; Computer Building\, 5501 200 University Avenue 
 West Waterloo ON N2L 3G1 Canada
SUMMARY:NVIDIA Lecture: Tools for safety and security in Large Language Mod
 els
CLASS:PUBLIC
DESCRIPTION:Christopher Parisien\, Waterloo graduate (BMath '06)\, a PhD in
 \nComputational Linguistics from the University of Toronto and Senior\nMa
 nager of Applied Research at NVIDIA\, will deliver the NVIDIA\nLecture. T
 he lecture will introduce NeMo Guardrails' key\nfunctionalities\, emphasiz
 ing responsible AI development. Students\ninterested in AI\, Machine Learn
 ing\, and Foundation Models can gain\ninsights into creating reliable AI s
 olutions. 
DTSTAMP:20260425T151649Z
END:VEVENT
END:VCALENDAR