BEGIN:VCALENDAR
VERSION:2.0
PRODID:-//Drupal iCal API//EN
X-WR-CALNAME:Events items teaser
X-WR-TIMEZONE:America/Toronto
BEGIN:VTIMEZONE
TZID:America/Toronto
X-LIC-LOCATION:America/Toronto
BEGIN:DAYLIGHT
TZNAME:EDT
TZOFFSETFROM:-0500
TZOFFSETTO:-0400
DTSTART:20170312T070000
END:DAYLIGHT
BEGIN:STANDARD
TZNAME:EST
TZOFFSETFROM:-0400
TZOFFSETTO:-0500
DTSTART:20171105T060000
END:STANDARD
END:VTIMEZONE
BEGIN:VEVENT
UID:69e3a5e06fb97
DTSTART;TZID=America/Toronto:20180116T163000
SEQUENCE:0
TRANSP:TRANSPARENT
DTEND;TZID=America/Toronto:20180116T193000
URL:https://uwaterloo.ca/math/events/man-exploring-healthy-masculinity
LOCATION:MC - Mathematics &amp; Computer Building 200 University Avenue West MC
  5501 Waterloo ON N2L 3G1 Canada
SUMMARY:Man Up! Exploring Healthy Masculinity
CLASS:PUBLIC
DESCRIPTION:[man up] Through interactive exercises\, this three hour worksh
 op will\nprovide men with the tools to become better versions of themselv
 es.\nThe dominant idea of manhood affects us all. More and more men are\n
 beginning to stand up and speak out about their desire to redefine\nwhat 
 it means to be a man today.
DTSTAMP:20260418T154016Z
END:VEVENT
END:VCALENDAR