BEGIN:VCALENDAR
VERSION:2.0
PRODID:-//Drupal iCal API//EN
X-WR-CALNAME:Events items teaser
X-WR-TIMEZONE:America/Toronto
BEGIN:VTIMEZONE
TZID:America/Toronto
X-LIC-LOCATION:America/Toronto
BEGIN:DAYLIGHT
TZNAME:EDT
TZOFFSETFROM:-0500
TZOFFSETTO:-0400
DTSTART:20170312T070000
END:DAYLIGHT
BEGIN:STANDARD
TZNAME:EST
TZOFFSETFROM:-0400
TZOFFSETTO:-0500
DTSTART:20171105T060000
END:STANDARD
END:VTIMEZONE
BEGIN:VEVENT
UID:69e6640d38186
DTSTART;TZID=America/Toronto:20180228T193000
SEQUENCE:0
TRANSP:TRANSPARENT
DTEND;TZID=America/Toronto:20180228T193000
URL:https://uwaterloo.ca/math/events/beyond-imitation-game-dieppe-james-bon
 d-blackberry-quantum
LOCATION:STJ - St. Jerome's University 290 Westmount Road North Vanstone Le
 cture Hall Waterloo ON N2L 3G3 Canada
SUMMARY:Beyond the Imitation Game - From Dieppe &amp; James Bond to Blackberry 
 &amp;\nQuantum Encryption
CLASS:PUBLIC
DESCRIPTION:PETER BERG AND DAVID O'KEEFE\n\nDiscover the remarkable story o
 f the Enigma machine\, a device invented\nin 1918 to encrypt the most secr
 et and sensitive communications in\nHitler’s Nazi Germany\, and  the le
 ngths the Allies would go to in\nan effort to tap into its Ultra Secret yi
 eld!\n 
DTSTAMP:20260420T173613Z
END:VEVENT
END:VCALENDAR