BEGIN:VCALENDAR
VERSION:2.0
PRODID:-//Drupal iCal API//EN
X-WR-CALNAME:Events items teaser
X-WR-TIMEZONE:America/Toronto
BEGIN:VTIMEZONE
TZID:America/Toronto
X-LIC-LOCATION:America/Toronto
BEGIN:DAYLIGHT
TZNAME:EDT
TZOFFSETFROM:-0500
TZOFFSETTO:-0400
DTSTART:20250309T070000
END:DAYLIGHT
BEGIN:STANDARD
TZNAME:EST
TZOFFSETFROM:-0400
TZOFFSETTO:-0500
DTSTART:20241103T060000
END:STANDARD
END:VTIMEZONE
BEGIN:VEVENT
UID:69ecdae5a6de4
DTSTART;TZID=America/Toronto:20250313T173000
SEQUENCE:0
TRANSP:TRANSPARENT
DTEND;TZID=America/Toronto:20250313T190000
URL:https://uwaterloo.ca/math/events/black-history-trivia-night
LOCATION:E7 - Engineering 7\, Room 7303/7363 200 University Ave West Waterl
 oo ON N2L 3G1 Canada
SUMMARY:Black History Trivia Night
CLASS:PUBLIC
DESCRIPTION:Impress your friends and flex your trivia muscles in a fun triv
 ia\nnight celebrating the history of Black culture\, achievements\, and\n
 milestones.
DTSTAMP:20260425T151653Z
END:VEVENT
END:VCALENDAR