BEGIN:VCALENDAR
VERSION:2.0
PRODID:-//Drupal iCal API//EN
X-WR-CALNAME:Events items teaser
X-WR-TIMEZONE:America/Toronto
BEGIN:VTIMEZONE
TZID:America/Toronto
X-LIC-LOCATION:America/Toronto
BEGIN:DAYLIGHT
TZNAME:EDT
TZOFFSETFROM:-0500
TZOFFSETTO:-0400
DTSTART:20250309T070000
END:DAYLIGHT
BEGIN:STANDARD
TZNAME:EST
TZOFFSETFROM:-0400
TZOFFSETTO:-0500
DTSTART:20241103T060000
END:STANDARD
END:VTIMEZONE
BEGIN:VEVENT
UID:69e525a880018
DTSTART;TZID=America/Toronto:20250505T110000
SEQUENCE:0
TRANSP:TRANSPARENT
DTEND;TZID=America/Toronto:20250505T123000
URL:https://uwaterloo.ca/math/events/siv-sivaloganathans-celebration-life
LOCATION:M3 - Mathematics 3\, Room 1006 200 University Avenue West Waterloo
  ON N2L 3G1 Canada
SUMMARY:Siv Sivaloganathan’s Celebration of Life
CLASS:PUBLIC
DESCRIPTION:Join us for a celebration of Sivabal Sivaloganathan's\, chair o
 f\nWaterloo’s Department of Applied Mathematics (2016-2023) and\nProfess
 or Applied Mathematics (1990-2025)\, life and his enormous\nimpact on the 
 Department of Applied Mathematics\, the Faculty of\nMathematics and the wh
 ole University of Waterloo.
DTSTAMP:20260419T185744Z
END:VEVENT
END:VCALENDAR