BEGIN:VCALENDAR
VERSION:2.0
PRODID:-//Drupal iCal API//EN
X-WR-CALNAME:Events items teaser
X-WR-TIMEZONE:America/Toronto
BEGIN:VTIMEZONE
TZID:America/Toronto
X-LIC-LOCATION:America/Toronto
BEGIN:DAYLIGHT
TZNAME:EDT
TZOFFSETFROM:-0500
TZOFFSETTO:-0400
DTSTART:20250309T070000
END:DAYLIGHT
BEGIN:STANDARD
TZNAME:EST
TZOFFSETFROM:-0400
TZOFFSETTO:-0500
DTSTART:20241103T060000
END:STANDARD
END:VTIMEZONE
BEGIN:VEVENT
UID:69ecdaeeb2cc9
DTSTART;TZID=America/Toronto:20250814T170000
SEQUENCE:0
TRANSP:TRANSPARENT
DTEND;TZID=America/Toronto:20250814T190000
URL:https://uwaterloo.ca/math/events/queer-film-series-two-soft-things-two-
 hard-things
SUMMARY:Queer Film Series: Two Soft Things\, Two Hard Things
CLASS:PUBLIC
DESCRIPTION:Join the Faculty of Mathematics for an evening of film and\ncon
 versation exploring 2SLGBTQIA+ themes. In honour of INTERNATIONAL\nDAY OF 
 THE WORLD’S INDIGENOUS PEOPLES\, we will be screening Two Soft\nThings\,
  Two Hard Things [https://twosofttwohard.com/]. All are\nwelcome.
DTSTAMP:20260425T151702Z
END:VEVENT
END:VCALENDAR