BEGIN:VCALENDAR
VERSION:2.0
PRODID:-//Drupal iCal API//EN
X-WR-CALNAME:Events items teaser
X-WR-TIMEZONE:America/Toronto
BEGIN:VTIMEZONE
TZID:America/Toronto
X-LIC-LOCATION:America/Toronto
BEGIN:DAYLIGHT
TZNAME:EDT
TZOFFSETFROM:-0500
TZOFFSETTO:-0400
DTSTART:20180311T070000
END:DAYLIGHT
BEGIN:STANDARD
TZNAME:EST
TZOFFSETFROM:-0400
TZOFFSETTO:-0500
DTSTART:20171105T060000
END:STANDARD
END:VTIMEZONE
BEGIN:VEVENT
UID:69ed6324622ea
DTSTART;TZID=America/Toronto:20180615T143000
SEQUENCE:0
TRANSP:TRANSPARENT
DTEND;TZID=America/Toronto:20180615T143000
URL:https://uwaterloo.ca/math/events/faculty-mathematics-convocation-ceremo
 ny-2
LOCATION:PAC - Physical Activities Complex 200 University Avenue West Water
 loo ON N2L 3G1 Canada
SUMMARY:Faculty of Mathematics Convocation\, Ceremony 2
CLASS:PUBLIC
DESCRIPTION:We're excited about the Spring convocation. The Faculty of Math
 ematics\nholds two ceremonies. If you don't see your degree here\, please 
 check\nCeremony 1 [/math/node/1391].\n\nFollowing each ceremony\, bring yo
 ur families and guests to the Great\nHall in the Student Life Centre (SLC)
  for photos and refreshments.\n\nIn the second ceremony\, the following de
 grees will awarded:
DTSTAMP:20260426T005812Z
END:VEVENT
END:VCALENDAR