BEGIN:VCALENDAR
VERSION:2.0
PRODID:-//Drupal iCal API//EN
X-WR-CALNAME:Events items teaser
X-WR-TIMEZONE:America/Toronto
BEGIN:VTIMEZONE
TZID:America/Toronto
X-LIC-LOCATION:America/Toronto
BEGIN:DAYLIGHT
TZNAME:EDT
TZOFFSETFROM:-0500
TZOFFSETTO:-0400
DTSTART:20250309T070000
END:DAYLIGHT
BEGIN:STANDARD
TZNAME:EST
TZOFFSETFROM:-0400
TZOFFSETTO:-0500
DTSTART:20241103T060000
END:STANDARD
END:VTIMEZONE
BEGIN:VEVENT
UID:69ecdaf0b2443
DTSTART;TZID=America/Toronto:20250715T123000
SEQUENCE:0
TRANSP:TRANSPARENT
DTEND;TZID=America/Toronto:20250715T150000
URL:https://uwaterloo.ca/math/events/muo-ice-cream-social
LOCATION:M3 - Mathematics 3 200 University Avenue West Waterloo ON N2L 3G1 
 Canada
SUMMARY:MUO Ice Cream Social
CLASS:PUBLIC
DTSTAMP:20260425T151704Z
END:VEVENT
END:VCALENDAR