BEGIN:VCALENDAR
VERSION:2.0
PRODID:-//Drupal iCal API//EN
X-WR-CALNAME:Events items teaser
X-WR-TIMEZONE:America/Toronto
BEGIN:VTIMEZONE
TZID:America/Toronto
X-LIC-LOCATION:America/Toronto
BEGIN:DAYLIGHT
TZNAME:EDT
TZOFFSETFROM:-0500
TZOFFSETTO:-0400
DTSTART:20180311T070000
END:DAYLIGHT
BEGIN:STANDARD
TZNAME:EST
TZOFFSETFROM:-0400
TZOFFSETTO:-0500
DTSTART:20171105T060000
END:STANDARD
END:VTIMEZONE
BEGIN:VEVENT
UID:69e3a6aef280e
DTSTART;TZID=America/Toronto:20180622T173000
SEQUENCE:0
TRANSP:TRANSPARENT
DTEND;TZID=America/Toronto:20180624T170000
URL:https://uwaterloo.ca/math/events/programming-workshop-beginners
SUMMARY:Programming workshop for beginners
CLASS:PUBLIC
DESCRIPTION:THREE-DAY PROGRAMING WORKSHOP\n\nThis three-day workshop covers
  an intense 17-hour curriculum designed\nto give beginners complete\, ba
 sic programming skills to use in their\nstudies or workplace. It is inten
 ded for everyone who wants to learn\nbasics of programming and does not h
 ave an opportunity to do so as a\npart of their studies. Over the course 
 of the workshop\, participants\nwill learn the Python programming languag
 e through lectures and\nhands-on sessions\, supported by a team of mentor
 s.
DTSTAMP:20260418T154342Z
END:VEVENT
END:VCALENDAR