BEGIN:VCALENDAR
VERSION:2.0
PRODID:-//Drupal iCal API//EN
X-WR-CALNAME:Events items teaser
X-WR-TIMEZONE:America/Toronto
BEGIN:VTIMEZONE
TZID:America/Toronto
X-LIC-LOCATION:America/Toronto
BEGIN:DAYLIGHT
TZNAME:EDT
TZOFFSETFROM:-0500
TZOFFSETTO:-0400
DTSTART:20180311T070000
END:DAYLIGHT
BEGIN:STANDARD
TZNAME:EST
TZOFFSETFROM:-0400
TZOFFSETTO:-0500
DTSTART:20171105T060000
END:STANDARD
END:VTIMEZONE
BEGIN:VEVENT
UID:69ed3573b23f3
DTSTART;TZID=America/Toronto:20180621T094000
SEQUENCE:0
TRANSP:TRANSPARENT
DTEND;TZID=America/Toronto:20180621T160000
URL:https://uwaterloo.ca/math/events/2018-wes-graham-research-symposium-com
 puter-science-awards
LOCATION:DC - William G. Davis Computer Research Centre 200 University Aven
 ue West Waterloo ON N2L 3G1 Canada
SUMMARY:2018 Wes Graham Research Symposium &amp; Computer Science Awards
CLASS:PUBLIC
DESCRIPTION:The David R. Cheriton School of Computer Science is pleased to\
 nannounce its inaugural Wes Graham Research Symposium &amp; Computer\nScience 
 Awards. The ceremony takes its name from James Wesley (Wes)\nGraham\n[ht
 tps://uwaterloo.ca/magazine/fall-2017/feature/computing-waterloo-people-ma
 de-difference]\,\na humble visionary known as the “father of computing
 ” at the\nUniversity of Waterloo and an academic who devoted his caree
 r to\nmaking the magic of computers available to everyone. 
DTSTAMP:20260425T214315Z
END:VEVENT
END:VCALENDAR