BEGIN:VCALENDAR
VERSION:2.0
PRODID:-//Drupal iCal API//EN
X-WR-CALNAME:Events items teaser
X-WR-TIMEZONE:America/Toronto
BEGIN:VTIMEZONE
TZID:America/Toronto
X-LIC-LOCATION:America/Toronto
BEGIN:DAYLIGHT
TZNAME:EDT
TZOFFSETFROM:-0500
TZOFFSETTO:-0400
DTSTART:20250309T070000
END:DAYLIGHT
BEGIN:STANDARD
TZNAME:EST
TZOFFSETFROM:-0400
TZOFFSETTO:-0500
DTSTART:20241103T060000
END:STANDARD
END:VTIMEZONE
BEGIN:VEVENT
UID:69ecdae9ac51e
DTSTART;TZID=America/Toronto:20250924T173000
SEQUENCE:0
TRANSP:TRANSPARENT
DTEND;TZID=America/Toronto:20250924T193000
URL:https://uwaterloo.ca/math/events/queer-film-series-broken-hearts-club-r
 omantic-comedy
SUMMARY:Queer Film Series: The Broken Hearts Club: A Romantic Comedy
CLASS:PUBLIC
DESCRIPTION:Join the Faculty of Mathematics for an evening of film and\ncon
 versation exploring 2SLGBTQIA+ themes. In September\, we will be\nscreenin
 g The Broken Hearts Club: A Romantic Comedy\n[https://www.imdb.com/title/
 tt0222850/]. All are welcome.
DTSTAMP:20260425T151657Z
END:VEVENT
END:VCALENDAR