BEGIN:VCALENDAR
VERSION:2.0
PRODID:-//Drupal iCal API//EN
X-WR-CALNAME:Events items teaser
X-WR-TIMEZONE:America/Toronto
BEGIN:VTIMEZONE
TZID:America/Toronto
X-LIC-LOCATION:America/Toronto
BEGIN:DAYLIGHT
TZNAME:EDT
TZOFFSETFROM:-0500
TZOFFSETTO:-0400
DTSTART:20250309T070000
END:DAYLIGHT
BEGIN:STANDARD
TZNAME:EST
TZOFFSETFROM:-0400
TZOFFSETTO:-0500
DTSTART:20251102T060000
END:STANDARD
END:VTIMEZONE
BEGIN:VEVENT
UID:69ecdaef30b23
DTSTART;TZID=America/Toronto:20251119T163000
SEQUENCE:0
TRANSP:TRANSPARENT
DTEND;TZID=America/Toronto:20251119T183000
URL:https://uwaterloo.ca/math/events/queer-film-series-hedwig-and-angry-inc
 h-2001
SUMMARY:Queer Film Series: Hedwig and the Angry Inch (2001)
CLASS:PUBLIC
DESCRIPTION:Join the Faculty of Mathematics for an evening of film and\ncon
 versation exploring 2SLGBTQIA+ themes. In November\, we will be\nscreening
  Hedwig and the Angry Inch\n[https://www.imdb.com/title/tt0248845/]. All a
 re welcome.
DTSTAMP:20260425T151703Z
END:VEVENT
END:VCALENDAR