BEGIN:VCALENDAR
VERSION:2.0
PRODID:-//Drupal iCal API//EN
X-WR-CALNAME:Events items teaser
X-WR-TIMEZONE:America/Toronto
BEGIN:VTIMEZONE
TZID:America/Toronto
X-LIC-LOCATION:America/Toronto
BEGIN:DAYLIGHT
TZNAME:EDT
TZOFFSETFROM:-0500
TZOFFSETTO:-0400
DTSTART:20250309T070000
END:DAYLIGHT
BEGIN:STANDARD
TZNAME:EST
TZOFFSETFROM:-0400
TZOFFSETTO:-0500
DTSTART:20251102T060000
END:STANDARD
END:VTIMEZONE
BEGIN:VEVENT
UID:69ecdae93234a
DTSTART;TZID=America/Toronto:20251105T100000
SEQUENCE:0
TRANSP:TRANSPARENT
DTEND;TZID=America/Toronto:20251105T113000
URL:https://uwaterloo.ca/math/events/meet-and-greet-dr-edward-doolittle
LOCATION:DC - William G. Davis Computer Research Centre\, Fishbowl (1301) 2
 00 University Avenue West Waterloo ON N2L 3G1 Canada
SUMMARY:Meet and Greet with Dr. Edward Doolittle
CLASS:PUBLIC
DESCRIPTION:A casual meet-and-greet organized for Math undergraduate and gr
 aduate\nstudents with this year's Hagey Lecturer Dr. Edward Doolittle.
DTSTAMP:20260425T151657Z
END:VEVENT
END:VCALENDAR