BEGIN:VCALENDAR
VERSION:2.0
PRODID:-//Drupal iCal API//EN
X-WR-CALNAME:Events items teaser
X-WR-TIMEZONE:America/Toronto
BEGIN:VTIMEZONE
TZID:America/Toronto
X-LIC-LOCATION:America/Toronto
BEGIN:DAYLIGHT
TZNAME:EDT
TZOFFSETFROM:-0500
TZOFFSETTO:-0400
DTSTART:20180311T070000
END:DAYLIGHT
BEGIN:STANDARD
TZNAME:EST
TZOFFSETFROM:-0400
TZOFFSETTO:-0500
DTSTART:20171105T060000
END:STANDARD
END:VTIMEZONE
BEGIN:VEVENT
UID:69ed356f324e0
DTSTART;TZID=America/Toronto:20181025T140000
SEQUENCE:0
TRANSP:TRANSPARENT
DTEND;TZID=America/Toronto:20181025T160000
URL:https://uwaterloo.ca/math/events/bridge-2020-mathematics-consultation-s
 ession
LOCATION:MC - Mathematics &amp; Computer Building 200 University Avenue West 55
 01 Waterloo ON N2L 3G1 Canada
SUMMARY:Bridge to 2020 Mathematics Consultation Session
CLASS:PUBLIC
DESCRIPTION:Join us for the consultation session for the University's strat
 egic\nplan - Bridge to 2020. This consultation session is open to all\nmem
 bers of the Faculty of Mathematics. \n \nThrough the strategic plan cons
 ultations\, the University will gather\nyour ideas on what we need to achi
 eve by 2025 and what success will\nlook like.
DTSTAMP:20260425T214311Z
END:VEVENT
END:VCALENDAR