BEGIN:VCALENDAR
VERSION:2.0
PRODID:-//Drupal iCal API//EN
X-WR-CALNAME:Events items teaser
X-WR-TIMEZONE:America/Toronto
BEGIN:VTIMEZONE
TZID:America/Toronto
X-LIC-LOCATION:America/Toronto
BEGIN:DAYLIGHT
TZNAME:EDT
TZOFFSETFROM:-0500
TZOFFSETTO:-0400
DTSTART:20180311T070000
END:DAYLIGHT
BEGIN:STANDARD
TZNAME:EST
TZOFFSETFROM:-0400
TZOFFSETTO:-0500
DTSTART:20181104T060000
END:STANDARD
END:VTIMEZONE
BEGIN:VEVENT
UID:69e5fe931ceff
DTSTART;TZID=America/Toronto:20181121T193000
SEQUENCE:0
TRANSP:TRANSPARENT
DTEND;TZID=America/Toronto:20181121T193000
URL:https://uwaterloo.ca/math/events/movement-within-art-and-math-and-where
 -it-takes-us
LOCATION:STJ - St. Jerome's University 290 Westmount Road North Vanstone Le
 cture Hall Waterloo ON N2L 3G3 Canada
SUMMARY:Movement within art and math and where it takes us
CLASS:PUBLIC
DESCRIPTION:In all creative endeavors\, we are inspired by the work of othe
 rs to\nmove the frontiers of our intellectual interests forward. Our\nexpe
 riences\, in work and life alike\, challenge us to grow and evolve.\nThis 
 process allows us to realize the quintessential goal of\neducation: to cha
 nge ourselves.
DTSTAMP:20260420T102315Z
END:VEVENT
END:VCALENDAR