BEGIN:VCALENDAR
VERSION:2.0
PRODID:-//Drupal iCal API//EN
X-WR-CALNAME:Events items teaser
X-WR-TIMEZONE:America/Toronto
BEGIN:VTIMEZONE
TZID:America/Toronto
X-LIC-LOCATION:America/Toronto
BEGIN:DAYLIGHT
TZNAME:EDT
TZOFFSETFROM:-0500
TZOFFSETTO:-0400
DTSTART:20250309T070000
END:DAYLIGHT
BEGIN:STANDARD
TZNAME:EST
TZOFFSETFROM:-0400
TZOFFSETTO:-0500
DTSTART:20251102T060000
END:STANDARD
END:VTIMEZONE
BEGIN:VEVENT
UID:69ed356c34447
DTSTART;TZID=America/Toronto:20251210T163000
SEQUENCE:0
TRANSP:TRANSPARENT
DTEND;TZID=America/Toronto:20251210T183000
URL:https://uwaterloo.ca/math/events/queer-film-series-how-survive-plague-2
 012
SUMMARY:Queer Film Series: How to Survive a Plague (2012)
CLASS:PUBLIC
DESCRIPTION:Join the Faculty of Mathematics for an evening of film and\ncon
 versation exploring 2SLGBTQIA+ themes. In December\, we will be\nscreening
  How to Survive a Plague\n[https://www.imdb.com/title/tt2124803/]. All ar
 e welcome!
DTSTAMP:20260425T214308Z
END:VEVENT
END:VCALENDAR