BEGIN:VCALENDAR
VERSION:2.0
PRODID:-//Drupal iCal API//EN
X-WR-CALNAME:Events items teaser
X-WR-TIMEZONE:America/Toronto
BEGIN:VTIMEZONE
TZID:America/Toronto
X-LIC-LOCATION:America/Toronto
BEGIN:DAYLIGHT
TZNAME:EDT
TZOFFSETFROM:-0500
TZOFFSETTO:-0400
DTSTART:20250309T070000
END:DAYLIGHT
BEGIN:STANDARD
TZNAME:EST
TZOFFSETFROM:-0400
TZOFFSETTO:-0500
DTSTART:20251102T060000
END:STANDARD
END:VTIMEZONE
BEGIN:VEVENT
UID:69ecdaeb2e742
DTSTART;TZID=America/Toronto:20260128T163000
SEQUENCE:0
TRANSP:TRANSPARENT
DTEND;TZID=America/Toronto:20260128T183000
URL:https://uwaterloo.ca/math/events/queer-film-series-kinky-boots-2005
SUMMARY:Queer Film Series: Kinky Boots (2005)
CLASS:PUBLIC
DESCRIPTION:Join the Faculty of Mathematics for an evening of film and\ncon
 versation exploring 2SLGBTQIA+ themes. In January\, we will be\nscreening 
 Kinky Boots [https://www.imdb.com/title/tt0434124/]. All are\nwelcome!
DTSTAMP:20260425T151659Z
END:VEVENT
END:VCALENDAR