BEGIN:VCALENDAR
VERSION:2.0
PRODID:-//Drupal iCal API//EN
X-WR-CALNAME:Events items teaser
X-WR-TIMEZONE:America/Toronto
BEGIN:VTIMEZONE
TZID:America/Toronto
X-LIC-LOCATION:America/Toronto
BEGIN:DAYLIGHT
TZNAME:EDT
TZOFFSETFROM:-0500
TZOFFSETTO:-0400
DTSTART:20250309T070000
END:DAYLIGHT
BEGIN:STANDARD
TZNAME:EST
TZOFFSETFROM:-0400
TZOFFSETTO:-0500
DTSTART:20251102T060000
END:STANDARD
END:VTIMEZONE
BEGIN:VEVENT
UID:69ecdaea2b6a4
DTSTART;TZID=America/Toronto:20260127T170000
SEQUENCE:0
TRANSP:TRANSPARENT
DTEND;TZID=America/Toronto:20260127T190000
URL:https://uwaterloo.ca/math/events/38th-annual-undergrad-awards-and-schol
 arship-reception
LOCATION:FED - Federation Hall 200 University Avenue West Waterloo ON N2L 3
 G1 Canada
SUMMARY:38th Annual Undergrad Awards and Scholarship Reception
CLASS:PUBLIC
DESCRIPTION:The Faculty of Math is excited to host the 38TH ANNUAL UNDERGRA
 DUATE\nAWARDS CELEBRATION. This is a special event to recognize and celebr
 ate\nthe achievements of our talented undergraduate students.\n\n_This eve
 nt is by invite only. _
DTSTAMP:20260425T151658Z
END:VEVENT
END:VCALENDAR