BEGIN:VCALENDAR
VERSION:2.0
PRODID:-//Drupal iCal API//EN
X-WR-CALNAME:Events items teaser
X-WR-TIMEZONE:America/Toronto
BEGIN:VTIMEZONE
TZID:America/Toronto
X-LIC-LOCATION:America/Toronto
BEGIN:DAYLIGHT
TZNAME:EDT
TZOFFSETFROM:-0500
TZOFFSETTO:-0400
DTSTART:20250309T070000
END:DAYLIGHT
BEGIN:STANDARD
TZNAME:EST
TZOFFSETFROM:-0400
TZOFFSETTO:-0500
DTSTART:20251102T060000
END:STANDARD
END:VTIMEZONE
BEGIN:VEVENT
UID:69ecdaf02a9ce
DTSTART;TZID=America/Toronto:20260211T100000
SEQUENCE:0
TRANSP:TRANSPARENT
DTEND;TZID=America/Toronto:20260211T120000
URL:https://uwaterloo.ca/math/events/resume-review-w26
LOCATION:MC - Mathematics &amp; Computer Building 200 University Avenue West Wa
 terloo ON N2L 3G1 Canada
SUMMARY:Drop-in for a Résumé Review!
CLASS:PUBLIC
DESCRIPTION:Drop-in with the MUO and CCD for a résumé review!
DTSTAMP:20260425T151704Z
END:VEVENT
END:VCALENDAR