BEGIN:VCALENDAR
VERSION:2.0
PRODID:-//Drupal iCal API//EN
X-WR-CALNAME:Events items teaser
X-WR-TIMEZONE:America/Toronto
BEGIN:VTIMEZONE
TZID:America/Toronto
X-LIC-LOCATION:America/Toronto
BEGIN:DAYLIGHT
TZNAME:EDT
TZOFFSETFROM:-0500
TZOFFSETTO:-0400
DTSTART:20180311T070000
END:DAYLIGHT
BEGIN:STANDARD
TZNAME:EST
TZOFFSETFROM:-0400
TZOFFSETTO:-0500
DTSTART:20181104T060000
END:STANDARD
END:VTIMEZONE
BEGIN:VEVENT
UID:69ed640383b0c
DTSTART;TZID=America/Toronto:20181130T190000
SEQUENCE:0
TRANSP:TRANSPARENT
DTEND;TZID=America/Toronto:20181130T220000
URL:https://uwaterloo.ca/math/events/math-stress-event
SUMMARY:Math De-stress Event
CLASS:PUBLIC
DESCRIPTION:Math Students:\n\nCome join us for an evening of math board gam
 es in the Math C&amp;D and\nmath trivia in MC 2066.\n\nThere will be an OPEN M
 IC in the MC Comfy Lounge.  If you are\ninterested in performing\, here i
 s the link\n[https://docs.google.com/forms/d/e/1FAIpQLSf53EB-Szjzvso8vZPlN
 QoPCRN0OCBf4ZbEVRhPGDBlXW11zQ/viewform?vc=0&amp;c=0&amp;w=1]\nto sign-up check or 
 email: amfreita@uwaterloo.ca\n\nThere will be free pizza\, hot chocolate\,
  candy and popcorn.\n\nSee you all there!!!
DTSTAMP:20260426T010155Z
END:VEVENT
END:VCALENDAR