BEGIN:VCALENDAR
VERSION:2.0
PRODID:-//Drupal iCal API//EN
X-WR-CALNAME:Events items teaser
X-WR-TIMEZONE:America/Toronto
BEGIN:VTIMEZONE
TZID:America/Toronto
X-LIC-LOCATION:America/Toronto
BEGIN:DAYLIGHT
TZNAME:EDT
TZOFFSETFROM:-0500
TZOFFSETTO:-0400
DTSTART:20180311T070000
END:DAYLIGHT
BEGIN:STANDARD
TZNAME:EST
TZOFFSETFROM:-0400
TZOFFSETTO:-0500
DTSTART:20181104T060000
END:STANDARD
END:VTIMEZONE
BEGIN:VEVENT
UID:69ed632de9797
DTSTART;TZID=America/Toronto:20190129T170000
SEQUENCE:0
TRANSP:TRANSPARENT
DTEND;TZID=America/Toronto:20190129T170000
URL:https://uwaterloo.ca/math/events/math-students-who-have-not-declared-ma
 jor
SUMMARY:Math students who have not declared a major
CLASS:PUBLIC
DESCRIPTION:The Math Undergrad Office will be hosting plan information sess
 ions on\nTUESDAY\, JANUARY 29TH at 5:00pm\, 5:30pm\, and 6:00pm.  These s
 essions\nwill allow you to explore the many majors the Faculty has to offe
 r.\n\nHere is a schedule\n[/math/sites/ca.math/files/uploads/files/w19_sch
 edule.doc] (PDF) of\nthe times of sessions.\n\nLooking forward to seeing y
 ou there.
DTSTAMP:20260426T005821Z
END:VEVENT
END:VCALENDAR