BEGIN:VCALENDAR
VERSION:2.0
PRODID:-//Drupal iCal API//EN
X-WR-CALNAME:Events items teaser
X-WR-TIMEZONE:America/Toronto
BEGIN:VTIMEZONE
TZID:America/Toronto
X-LIC-LOCATION:America/Toronto
BEGIN:DAYLIGHT
TZNAME:EDT
TZOFFSETFROM:-0500
TZOFFSETTO:-0400
DTSTART:20250309T070000
END:DAYLIGHT
BEGIN:STANDARD
TZNAME:EST
TZOFFSETFROM:-0400
TZOFFSETTO:-0500
DTSTART:20251102T060000
END:STANDARD
END:VTIMEZONE
BEGIN:VEVENT
UID:69ebd5d541b1d
DTSTART;TZID=America/Toronto:20260206T140000
SEQUENCE:0
TRANSP:TRANSPARENT
DTEND;TZID=America/Toronto:20260206T160000
URL:https://uwaterloo.ca/math/events/winter-olympics-watch-party
LOCATION:MC - Mathematics &amp; Computer Building\, Room 5201 200 University Av
 enue West Waterloo ON N2L 3G1 Canada
SUMMARY:Winter Olympics Watch Party
CLASS:PUBLIC
DESCRIPTION:Join us for a drop-in Winter Olympics Watch Party. We're kickin
 g it\noff with the opening ceremonies on February 6 and will keep adding\n
 upcoming games over the next few days.
DTSTAMP:20260424T204301Z
END:VEVENT
BEGIN:VEVENT
UID:69ebd5d546ecb
DTSTART;TZID=America/Toronto:20260210T140000
SEQUENCE:0
TRANSP:TRANSPARENT
DTEND;TZID=America/Toronto:20260210T150000
URL:https://uwaterloo.ca/math/events/winter-olympics-watch-party
LOCATION:MC - Mathematics &amp; Computer Building\, Room 5201 200 University Av
 enue West Waterloo ON N2L 3G1 Canada
SUMMARY:Winter Olympics Watch Party
CLASS:PUBLIC
DESCRIPTION:Join us for a drop-in Winter Olympics Watch Party. We're kickin
 g it\noff with the opening ceremonies on February 6 and will keep adding\n
 upcoming games over the next few days.
DTSTAMP:20260424T204301Z
END:VEVENT
BEGIN:VEVENT
UID:69ebd5d548122
DTSTART;TZID=America/Toronto:20260211T133000
SEQUENCE:0
TRANSP:TRANSPARENT
DTEND;TZID=America/Toronto:20260211T143000
URL:https://uwaterloo.ca/math/events/winter-olympics-watch-party
LOCATION:MC - Mathematics &amp; Computer Building\, Room 5201 200 University Av
 enue West Waterloo ON N2L 3G1 Canada
SUMMARY:Winter Olympics Watch Party
CLASS:PUBLIC
DESCRIPTION:Join us for a drop-in Winter Olympics Watch Party. We're kickin
 g it\noff with the opening ceremonies on February 6 and will keep adding\n
 upcoming games over the next few days.
DTSTAMP:20260424T204301Z
END:VEVENT
BEGIN:VEVENT
UID:69ebd5d548f87
DTSTART;TZID=America/Toronto:20260212T103000
SEQUENCE:0
TRANSP:TRANSPARENT
DTEND;TZID=America/Toronto:20260212T113000
URL:https://uwaterloo.ca/math/events/winter-olympics-watch-party
LOCATION:MC - Mathematics &amp; Computer Building\, Room 5201 200 University Av
 enue West Waterloo ON N2L 3G1 Canada
SUMMARY:Winter Olympics Watch Party
CLASS:PUBLIC
DESCRIPTION:Join us for a drop-in Winter Olympics Watch Party. We're kickin
 g it\noff with the opening ceremonies on February 6 and will keep adding\n
 upcoming games over the next few days.
DTSTAMP:20260424T204301Z
END:VEVENT
END:VCALENDAR