BEGIN:VCALENDAR
VERSION:2.0
PRODID:-//Drupal iCal API//EN
X-WR-CALNAME:Events items teaser
X-WR-TIMEZONE:America/Toronto
BEGIN:VTIMEZONE
TZID:America/Toronto
X-LIC-LOCATION:America/Toronto
BEGIN:DAYLIGHT
TZNAME:EDT
TZOFFSETFROM:-0500
TZOFFSETTO:-0400
DTSTART:20260308T070000
END:DAYLIGHT
BEGIN:STANDARD
TZNAME:EST
TZOFFSETFROM:-0400
TZOFFSETTO:-0500
DTSTART:20251102T060000
END:STANDARD
END:VTIMEZONE
BEGIN:VEVENT
UID:69ebcaf141ecb
DTSTART;TZID=America/Toronto:20260401T123000
SEQUENCE:0
TRANSP:TRANSPARENT
DTEND;TZID=America/Toronto:20260401T150000
URL:https://uwaterloo.ca/math/events/muo-bubble-tea-care-packages
LOCATION:DC - William G. Davis Computer Research Centre 200 University Aven
 ue West Waterloo ON N2L 3G1 Canada
SUMMARY:MUO Bubble Tea &amp; Care Packages
CLASS:PUBLIC
DESCRIPTION:The MUO's annual Bubble Tea event will be taking place on Wedne
 sday\,\nApril 1st in the DC Fishbowl!
DTSTAMP:20260424T195633Z
END:VEVENT
END:VCALENDAR