BEGIN:VCALENDAR
VERSION:2.0
PRODID:-//Drupal iCal API//EN
X-WR-CALNAME:Events items teaser
X-WR-TIMEZONE:America/Toronto
BEGIN:VTIMEZONE
TZID:America/Toronto
X-LIC-LOCATION:America/Toronto
BEGIN:DAYLIGHT
TZNAME:EDT
TZOFFSETFROM:-0500
TZOFFSETTO:-0400
DTSTART:20190310T070000
END:DAYLIGHT
BEGIN:STANDARD
TZNAME:EST
TZOFFSETFROM:-0400
TZOFFSETTO:-0500
DTSTART:20181104T060000
END:STANDARD
END:VTIMEZONE
BEGIN:VEVENT
UID:69e615b446ba2
DTSTART;TZID=Asia/Hong_Kong:20190314T180000
SEQUENCE:0
TRANSP:TRANSPARENT
DTEND;TZID=Asia/Hong_Kong:20190314T210000
URL:https://uwaterloo.ca/math/events/deans-lecture-hong-kong
LOCATION:The Hong Kong Polytechnic University Chan Sui Kau &amp; Chan Lam Moon 
 Chun Square (Logo Square) and Room N101-103 Hung Hom\, Kowloon Hong Kong S
 AR China
SUMMARY:Dean's Lecture in Hong Kong
CLASS:PUBLIC
DESCRIPTION:[Dean's Lecture - Hong Kong]
DTSTAMP:20260420T120156Z
END:VEVENT
END:VCALENDAR