BEGIN:VCALENDAR
VERSION:2.0
PRODID:-//Drupal iCal API//EN
X-WR-CALNAME:Events items teaser
X-WR-TIMEZONE:America/Toronto
BEGIN:VTIMEZONE
TZID:America/Toronto
X-LIC-LOCATION:America/Toronto
BEGIN:DAYLIGHT
TZNAME:EDT
TZOFFSETFROM:-0500
TZOFFSETTO:-0400
DTSTART:20180311T070000
END:DAYLIGHT
BEGIN:STANDARD
TZNAME:EST
TZOFFSETFROM:-0400
TZOFFSETTO:-0500
DTSTART:20181104T060000
END:STANDARD
END:VTIMEZONE
BEGIN:VEVENT
UID:69ed357835a0a
DTSTART;TZID=America/Toronto:20190308T200000
SEQUENCE:0
TRANSP:TRANSPARENT
DTEND;TZID=America/Toronto:20190308T200000
URL:https://uwaterloo.ca/math/events/international-womens-day-movie-screeni
 ng
LOCATION:Princess Twin Cinema 46 King Street North Waterloo ON N2J 2W8 Cana
 da
SUMMARY:International Women's Day Movie Screening
CLASS:PUBLIC
DESCRIPTION:We will be celebrating International Women’s Day with a movie
 \nscreening at Princess Twin Cinema! Come out to watch Suffragette\n(2015
 ). We're having a live panel before the show\, free snacks and a\nchance t
 o meet some awesome people. \n\nEVENT SCHEDULE:\n\nWhere: PRINCESS TWIN 
 CINEMA\,  46 King St N\, Waterloo\n\n7:45 pm – 8:00 pm – registration
  for the event\n\n7:55 pm -  8:00 pm – doors open to theatre\n\n8:00 pm
  – Welcome\n\n8:05 pm – 8:40 pm – International Women’s Day Panel
  \n\nPanelists: 
DTSTAMP:20260425T214320Z
END:VEVENT
END:VCALENDAR