BEGIN:VCALENDAR
VERSION:2.0
PRODID:-//Drupal iCal API//EN
X-WR-CALNAME:Events items teaser
X-WR-TIMEZONE:America/Toronto
BEGIN:VTIMEZONE
TZID:America/Toronto
X-LIC-LOCATION:America/Toronto
BEGIN:DAYLIGHT
TZNAME:EDT
TZOFFSETFROM:-0500
TZOFFSETTO:-0400
DTSTART:20190310T070000
END:DAYLIGHT
BEGIN:STANDARD
TZNAME:EST
TZOFFSETFROM:-0400
TZOFFSETTO:-0500
DTSTART:20181104T060000
END:STANDARD
END:VTIMEZONE
BEGIN:VEVENT
UID:69ed35725bcfc
DTSTART;TZID=America/Toronto:20190328T090000
SEQUENCE:0
TRANSP:TRANSPARENT
DTEND;TZID=America/Toronto:20190328T170000
URL:https://uwaterloo.ca/math/2019-capstone-design-symposium
LOCATION:DC - William G. Davis Computer Research Centre 200 University Aven
 ue West First Floor Waterloo ON N2L 3G1 Canada
SUMMARY:Computer Science and Software Engineering Capstone Design Symposium
CLASS:PUBLIC
DESCRIPTION:[students showcasing project]\n\nThe Capstone Design Symposium
  is the culmination of the\nundergraduate student experience\, creating a
  blueprint for innovation\nin software engineering design. A variety of to
 pics will be\nshowcased from gaming and food applications\, to automoti
 ve safety\nfeatures and breast cancer research.
DTSTAMP:20260425T214314Z
END:VEVENT
END:VCALENDAR