BEGIN:VCALENDAR
VERSION:2.0
PRODID:-//Drupal iCal API//EN
X-WR-CALNAME:Events items teaser
X-WR-TIMEZONE:America/Toronto
BEGIN:VTIMEZONE
TZID:America/Toronto
X-LIC-LOCATION:America/Toronto
BEGIN:DAYLIGHT
TZNAME:EDT
TZOFFSETFROM:-0500
TZOFFSETTO:-0400
DTSTART:20190310T070000
END:DAYLIGHT
BEGIN:STANDARD
TZNAME:EST
TZOFFSETFROM:-0400
TZOFFSETTO:-0500
DTSTART:20181104T060000
END:STANDARD
END:VTIMEZONE
BEGIN:VEVENT
UID:69e7c3f7d65a4
DTSTART;TZID=America/Toronto:20190327T193000
SEQUENCE:0
TRANSP:TRANSPARENT
DTEND;TZID=America/Toronto:20190327T193000
URL:https://uwaterloo.ca/math/bridges-lecture-series-touch
LOCATION:STJ - St. Jerome's University 290 Westmount Road North Vanstone Le
 cture Hall Waterloo ON N2L 3G3 Canada
SUMMARY:Bridges Lecture Series - Touch: The Science and Culture of Contact 
 in\nMore-Than-Human Worlds
CLASS:PUBLIC
DESCRIPTION:[Bridges Lecture Series touch poster]\n\nThe Bridges Lecture Se
 ries will host AMELIA DEFALCO (Medical\nHumanities) and INDIA MORRISON
  (Neuroscience) on March 27. They will\nprovide an overview of how human 
 social\, emotional touch may have\nemerged from multiple brain mechanisms 
 governing attachment and\nphysical closeness between individuals. 
DTSTAMP:20260421T183743Z
END:VEVENT
END:VCALENDAR