BEGIN:VCALENDAR
VERSION:2.0
PRODID:-//Drupal iCal API//EN
X-WR-CALNAME:Events items teaser
X-WR-TIMEZONE:America/Toronto
BEGIN:VTIMEZONE
TZID:America/Toronto
X-LIC-LOCATION:America/Toronto
BEGIN:DAYLIGHT
TZNAME:EDT
TZOFFSETFROM:-0500
TZOFFSETTO:-0400
DTSTART:20190310T070000
END:DAYLIGHT
BEGIN:STANDARD
TZNAME:EST
TZOFFSETFROM:-0400
TZOFFSETTO:-0500
DTSTART:20181104T060000
END:STANDARD
END:VTIMEZONE
BEGIN:VEVENT
UID:69ed631ce2fdd
DTSTART;TZID=America/Toronto:20190401T180000
SEQUENCE:0
TRANSP:TRANSPARENT
DTEND;TZID=America/Toronto:20190401T210000
URL:https://uwaterloo.ca/math/events/party-math-profs
LOCATION:FED - Federation Hall 200 University Avenue West Waterloo ON N2L 3
 G1 Canada
SUMMARY:Party with the Math Profs
CLASS:PUBLIC
DESCRIPTION:Party with Profs event is on again: MONDAY\, APRIL 1ST FROM 6-
 9PM AT\nFED HALL.\n\nIt’s a great opportunity for you to further connect
  with your\nundergraduate students and maybe meet some new ones! MathSoc w
 ill be\nproviding complimentary food and drinks.
DTSTAMP:20260426T005804Z
END:VEVENT
END:VCALENDAR