BEGIN:VCALENDAR
VERSION:2.0
PRODID:-//Drupal iCal API//EN
X-WR-CALNAME:Events items teaser
X-WR-TIMEZONE:America/Toronto
BEGIN:VTIMEZONE
TZID:America/Toronto
X-LIC-LOCATION:America/Toronto
BEGIN:DAYLIGHT
TZNAME:EDT
TZOFFSETFROM:-0500
TZOFFSETTO:-0400
DTSTART:20190310T070000
END:DAYLIGHT
BEGIN:STANDARD
TZNAME:EST
TZOFFSETFROM:-0400
TZOFFSETTO:-0500
DTSTART:20181104T060000
END:STANDARD
END:VTIMEZONE
BEGIN:VEVENT
UID:69ed3a17f32df
DTSTART;TZID=America/Toronto:20190327T130000
SEQUENCE:0
TRANSP:TRANSPARENT
DTEND;TZID=America/Toronto:20190327T160000
URL:https://uwaterloo.ca/math/events/math-internal-transfer-advising-centre
LOCATION:NH - Ira G. Needles Hall 200 University Avenue West Waterloo ON N2
 L 3G1 Canada
SUMMARY:Math Internal Transfer Advising in The Centre
CLASS:PUBLIC
DESCRIPTION:Math Internal Transfer Advising will be taking place in The Cen
 tre on\nWednesday\, March 27th and Thursday\, March 28th from 1 - 4pm. \n
 \nPlease drop in if you are interested in transferring into the Faculty\no
 f Mathematics or if you are a current Math student thinking of\ntransferri
 ng to the Faculty of Arts. Check in at the Welcome Desk\n(counter 8)\, no 
 need to use the kiosk to queue in. 
DTSTAMP:20260425T220304Z
END:VEVENT
BEGIN:VEVENT
UID:69ed3a1800b74
DTSTART;TZID=America/Toronto:20190328T090000
SEQUENCE:0
TRANSP:TRANSPARENT
DTEND;TZID=America/Toronto:20190328T120000
URL:https://uwaterloo.ca/math/events/math-internal-transfer-advising-centre
LOCATION:NH - Ira G. Needles Hall 200 University Avenue West Waterloo ON N2
 L 3G1 Canada
SUMMARY:Math Internal Transfer Advising in The Centre
CLASS:PUBLIC
DESCRIPTION:Math Internal Transfer Advising will be taking place in The Cen
 tre on\nWednesday\, March 27th and Thursday\, March 28th from 1 - 4pm. \n
 \nPlease drop in if you are interested in transferring into the Faculty\no
 f Mathematics or if you are a current Math student thinking of\ntransferri
 ng to the Faculty of Arts. Check in at the Welcome Desk\n(counter 8)\, no 
 need to use the kiosk to queue in. 
DTSTAMP:20260425T220304Z
END:VEVENT
END:VCALENDAR