BEGIN:VCALENDAR
VERSION:2.0
PRODID:-//Drupal iCal API//EN
X-WR-CALNAME:Events items teaser
X-WR-TIMEZONE:America/Toronto
BEGIN:VTIMEZONE
TZID:America/Toronto
X-LIC-LOCATION:America/Toronto
BEGIN:DAYLIGHT
TZNAME:EDT
TZOFFSETFROM:-0500
TZOFFSETTO:-0400
DTSTART:20190310T070000
END:DAYLIGHT
BEGIN:STANDARD
TZNAME:EST
TZOFFSETFROM:-0400
TZOFFSETTO:-0500
DTSTART:20181104T060000
END:STANDARD
END:VTIMEZONE
BEGIN:VEVENT
UID:69ed356fc1779
DTSTART;TZID=America/Toronto:20190403T160000
SEQUENCE:0
TRANSP:TRANSPARENT
DTEND;TZID=America/Toronto:20190403T190000
URL:https://uwaterloo.ca/math/events/fine-cs-383-computational-digital-art-
 capstone-exhibition
SUMMARY:FINE / CS 383 Computational Digital Art Capstone Exhibition
CLASS:PUBLIC
DESCRIPTION:Experience the FINE/CS 383 Computational Digital Art Capstone
 \nExhibition\, where you will see interactive and digital works of art\ncr
 eated by students from the University of Waterloo! \n\n [Event poster wit
 h computer graphic]
DTSTAMP:20260425T214311Z
END:VEVENT
END:VCALENDAR