BEGIN:VCALENDAR
VERSION:2.0
PRODID:-//Drupal iCal API//EN
X-WR-CALNAME:Events items teaser
X-WR-TIMEZONE:America/Toronto
BEGIN:VTIMEZONE
TZID:America/Toronto
X-LIC-LOCATION:America/Toronto
BEGIN:DAYLIGHT
TZNAME:EDT
TZOFFSETFROM:-0500
TZOFFSETTO:-0400
DTSTART:20190310T070000
END:DAYLIGHT
BEGIN:STANDARD
TZNAME:EST
TZOFFSETFROM:-0400
TZOFFSETTO:-0500
DTSTART:20181104T060000
END:STANDARD
END:VTIMEZONE
BEGIN:VEVENT
UID:69e3a81f19128
DTSTART;TZID=America/Toronto:20190515T093000
SEQUENCE:0
TRANSP:TRANSPARENT
DTEND;TZID=America/Toronto:20190516T153000
URL:https://uwaterloo.ca/math/events/survey-research-data-analysis-101-and-
 beyond
LOCATION:M3 - Mathematics 3 200 University Avenue West Waterloo ON N2L 3G1 
 Canada
SUMMARY:Survey Research Data Analysis: 101 And Beyond
CLASS:PUBLIC
DESCRIPTION:This workshop provides a crash course on using statistical meth
 ods and\nsoftware when conducting data analysis in survey research. There 
 will\nbe a hands-on opportunity to conduct basic data analysis using SAS\n
 software. This workshop is presented by Dr. Christian Boudreau\n[https://u
 waterloo.ca/survey-research-centre/about/directors-and-board]\,\nCo-direct
 or of the SRC\, along with Grace Li from the International\nTobacco Contro
 l (ITC) Project [https://itcproject.org].
DTSTAMP:20260418T154951Z
END:VEVENT
END:VCALENDAR