BEGIN:VCALENDAR
VERSION:2.0
PRODID:-//Drupal iCal API//EN
X-WR-CALNAME:Events items teaser
X-WR-TIMEZONE:America/Toronto
BEGIN:VTIMEZONE
TZID:America/Toronto
X-LIC-LOCATION:America/Toronto
BEGIN:DAYLIGHT
TZNAME:EDT
TZOFFSETFROM:-0500
TZOFFSETTO:-0400
DTSTART:20190310T070000
END:DAYLIGHT
BEGIN:STANDARD
TZNAME:EST
TZOFFSETFROM:-0400
TZOFFSETTO:-0500
DTSTART:20181104T060000
END:STANDARD
END:VTIMEZONE
BEGIN:VEVENT
UID:69ed39ff0371a
DTSTART;TZID=America/Toronto:20190712T110000
SEQUENCE:0
TRANSP:TRANSPARENT
DTEND;TZID=America/Toronto:20190712T150000
URL:https://uwaterloo.ca/math/events/summer-stress-session
LOCATION:MC - Mathematics &amp; Computer Building 200 University Avenue West 40
 22 Waterloo ON N2L 3G1 Canada
SUMMARY:Summer De-Stress Session
CLASS:PUBLIC
DESCRIPTION:[Event poster image - details to follow below]\n\nJoin the Math
  Undergraduate Office to de-stress on Friday\, July 12th\nfrom 11:00 a.m t
 o 3:00 p.m (while supplies last).\n\nBeat the summer heat with lemonade\, 
 iced tea and snacks.
DTSTAMP:20260425T220239Z
END:VEVENT
END:VCALENDAR