BEGIN:VCALENDAR
VERSION:2.0
PRODID:-//Drupal iCal API//EN
X-WR-CALNAME:Events items teaser
X-WR-TIMEZONE:America/Toronto
BEGIN:VTIMEZONE
TZID:America/Toronto
X-LIC-LOCATION:America/Toronto
BEGIN:DAYLIGHT
TZNAME:EDT
TZOFFSETFROM:-0500
TZOFFSETTO:-0400
DTSTART:20190310T070000
END:DAYLIGHT
BEGIN:STANDARD
TZNAME:EST
TZOFFSETFROM:-0400
TZOFFSETTO:-0500
DTSTART:20181104T060000
END:STANDARD
END:VTIMEZONE
BEGIN:VEVENT
UID:69ed3a1774a15
DTSTART;TZID=America/Toronto:20190914T120000
SEQUENCE:0
TRANSP:TRANSPARENT
DTEND;TZID=America/Toronto:20190914T120000
URL:https://uwaterloo.ca/math/events/seminar-series-data-driven-equity-inve
 stment-strategies
LOCATION:DC - William G. Davis Computer Research Centre 200 University Aven
 ue West 2585 Waterloo ON N2L 3G1 Canada
SUMMARY:Seminar Series \"Data Driven Equity Investment Strategies\"
CLASS:PUBLIC
DESCRIPTION:DATA-DRIVEN INVESTMENTS WITH INDUSTRY PRACTICE\n\nAll third yea
 r and above undergraduate and masters students in a\nfinance-related progr
 am are invited to participate in this two-part\nseminar. The seminars are 
 being offered from 10:00 a.m. to 12:00 p.m.\non Saturday\, September 14 a
 nd 1:30 p.m. - 3:30 p.m. on Saturday\,\nSeptember 21. 
DTSTAMP:20260425T220303Z
END:VEVENT
END:VCALENDAR