BEGIN:VCALENDAR
VERSION:2.0
PRODID:-//Drupal iCal API//EN
X-WR-CALNAME:Events items teaser
X-WR-TIMEZONE:America/Toronto
BEGIN:VTIMEZONE
TZID:America/Toronto
X-LIC-LOCATION:America/Toronto
BEGIN:DAYLIGHT
TZNAME:EDT
TZOFFSETFROM:-0500
TZOFFSETTO:-0400
DTSTART:20190310T070000
END:DAYLIGHT
BEGIN:STANDARD
TZNAME:EST
TZOFFSETFROM:-0400
TZOFFSETTO:-0500
DTSTART:20181104T060000
END:STANDARD
END:VTIMEZONE
BEGIN:VEVENT
UID:69e7dccb07188
DTSTART;TZID=America/Toronto:20190927T153000
SEQUENCE:0
TRANSP:TRANSPARENT
DTEND;TZID=America/Toronto:20190927T153000
URL:https://uwaterloo.ca/math/events/tutte-distinguished-lecture-carsten-th
 omassen
LOCATION:QNC - Quantum Nano Centre 200 University Avenue West 0101 Waterloo
  ON N2L 3G1 Canada
SUMMARY:Tutte Distinguished Lecture - Carsten Thomassen
CLASS:PUBLIC
DESCRIPTION:[Carsten Thomassen]\n\nCarsten Thomassen from the Technical Uni
 versity of Denmark will be\npresenting \"Countable weighted graphs with no
  unfriendly partitions\".
DTSTAMP:20260421T202339Z
END:VEVENT
END:VCALENDAR