BEGIN:VCALENDAR
VERSION:2.0
PRODID:-//Drupal iCal API//EN
X-WR-CALNAME:Events items teaser
X-WR-TIMEZONE:America/Toronto
BEGIN:VTIMEZONE
TZID:America/Toronto
X-LIC-LOCATION:America/Toronto
BEGIN:DAYLIGHT
TZNAME:EDT
TZOFFSETFROM:-0500
TZOFFSETTO:-0400
DTSTART:20190310T070000
END:DAYLIGHT
BEGIN:STANDARD
TZNAME:EST
TZOFFSETFROM:-0400
TZOFFSETTO:-0500
DTSTART:20181104T060000
END:STANDARD
END:VTIMEZONE
BEGIN:VEVENT
UID:69e871ef1cfb6
DTSTART;TZID=America/Toronto:20190926T161500
SEQUENCE:0
TRANSP:TRANSPARENT
DTEND;TZID=America/Toronto:20190926T161500
URL:https://uwaterloo.ca/math/events/david-sprott-distinguished-lecture-han
 s-follmer
LOCATION:STC - Science Teaching Complex 200 University Ave West 0050 Waterl
 oo ON N2L 3G1 Canada
SUMMARY:David Sprott Distinguished Lecture by Hans Föllmer
CLASS:PUBLIC
DESCRIPTION:[Hans Follmer]\n\nOPTIMAL TRANSPORT\, ENTROPY\, AND RISK MEASUR
 ES ON WIENER SPACE\n\nWe discuss the interplay between entropy\, large dev
 iations\, and\noptimal couplings on Wiener space.\n\nIn particular we prov
 e a new rescaled version of Talagrand’s\ntransport inequality. As an app
 lication\, we consider rescaled versions\nof the entropic risk measure whi
 ch are sensitive to risks in the fine\nstructure of Brownian paths. 
DTSTAMP:20260422T065959Z
END:VEVENT
END:VCALENDAR