BEGIN:VCALENDAR
VERSION:2.0
PRODID:-//Drupal iCal API//EN
X-WR-CALNAME:Events items teaser
X-WR-TIMEZONE:America/Toronto
BEGIN:VTIMEZONE
TZID:America/Toronto
X-LIC-LOCATION:America/Toronto
BEGIN:DAYLIGHT
TZNAME:EDT
TZOFFSETFROM:-0500
TZOFFSETTO:-0400
DTSTART:20190310T070000
END:DAYLIGHT
BEGIN:STANDARD
TZNAME:EST
TZOFFSETFROM:-0400
TZOFFSETTO:-0500
DTSTART:20181104T060000
END:STANDARD
END:VTIMEZONE
BEGIN:VEVENT
UID:69ed39f2e256d
DTSTART;TZID=America/Toronto:20190920T100000
SEQUENCE:0
TRANSP:TRANSPARENT
DTEND;TZID=America/Toronto:20190920T163000
URL:https://uwaterloo.ca/math/events/2019-cheriton-research-symposium
LOCATION:DC - William G. Davis Computer Research Centre 200 University Aven
 ue West Waterloo ON N2L 3G1 Canada
SUMMARY:2019 Cheriton Research Symposium
CLASS:PUBLIC
DESCRIPTION:The David R. Cheriton School of Computer Science will be hostin
 g the\nannual Cheriton Research Symposium in the Davis Centre.\n\nThis yea
 r’s symposium consists of presentations by Cheriton Faculty\nFellows\, D
 an Brown and Urs Hengartner. The full schedule\n[https://cs.uwaterloo.ca/c
 omputer-science/events/2019-cheriton-research-symposium]\nis available onl
 ine.\n\nPosters by David R. Cheriton Graduate Scholarship recipients will 
 be\non display in Davis Centre atrium from 10:00 a.m. to 4:00 p.m.
DTSTAMP:20260425T220226Z
END:VEVENT
END:VCALENDAR