BEGIN:VCALENDAR
VERSION:2.0
PRODID:-//Drupal iCal API//EN
X-WR-CALNAME:Events items teaser
X-WR-TIMEZONE:America/Toronto
BEGIN:VTIMEZONE
TZID:America/Toronto
X-LIC-LOCATION:America/Toronto
BEGIN:DAYLIGHT
TZNAME:EDT
TZOFFSETFROM:-0500
TZOFFSETTO:-0400
DTSTART:20190310T070000
END:DAYLIGHT
BEGIN:STANDARD
TZNAME:EST
TZOFFSETFROM:-0400
TZOFFSETTO:-0500
DTSTART:20181104T060000
END:STANDARD
END:VTIMEZONE
BEGIN:VEVENT
UID:69ed3a0472aa0
DTSTART;TZID=America/Toronto:20191002T000000
SEQUENCE:0
TRANSP:TRANSPARENT
DTEND;TZID=America/Toronto:20191002T000000
URL:https://uwaterloo.ca/math/events/cybersecurity-and-privacy-institute-an
 nual-conference
LOCATION:FED - Federation Hall 200 University Avenue West Waterloo ON N2L 3
 G1 Canada
SUMMARY:Cybersecurity and Privacy Institute Annual Conference
CLASS:PUBLIC
DESCRIPTION:On October 2\, the Waterloo Cybersecurity and Privacy Institute
  annual\nconference will highlight innovative cybsersecurity research\nand
  collaborations with keynote speakers\, panel discussions\, and\nindustry
  talks. This conference is open to undergraduate and graduate\nstudents\,
  faculty\, entrepreneurs\, start ups\, government\, sponsors\, and\nlocal 
 businesses. Additional details will be posted in the near\nfuture. 
DTSTAMP:20260425T220244Z
END:VEVENT
END:VCALENDAR