BEGIN:VCALENDAR
VERSION:2.0
PRODID:-//Drupal iCal API//EN
X-WR-CALNAME:Events items teaser
X-WR-TIMEZONE:America/Toronto
BEGIN:VTIMEZONE
TZID:America/Toronto
X-LIC-LOCATION:America/Toronto
BEGIN:DAYLIGHT
TZNAME:EDT
TZOFFSETFROM:-0500
TZOFFSETTO:-0400
DTSTART:20190310T070000
END:DAYLIGHT
BEGIN:STANDARD
TZNAME:EST
TZOFFSETFROM:-0400
TZOFFSETTO:-0500
DTSTART:20181104T060000
END:STANDARD
END:VTIMEZONE
BEGIN:VEVENT
UID:69ed7a021e845
DTSTART;TZID=America/Toronto:20191018T080000
SEQUENCE:0
TRANSP:TRANSPARENT
DTEND;TZID=America/Toronto:20191019T170000
URL:https://uwaterloo.ca/math/events/waterloo-student-conference-statistics
 -actuarial-science-and
LOCATION:University of Waterloo 200 University Avenue West Waterloo ON N2L 
 3G1 Canada
SUMMARY:Waterloo Student Conference in Statistics\, Actuarial Science and\n
 Finance
CLASS:PUBLIC
DESCRIPTION:This two day conference will provide graduate students in stati
 stics\,\nactuarial science and finance with the opportunity to share thei
 r\nresearch results and experiences\, discuss career opportunities\, and\n
 network with prominent researchers and fellow graduate students. \n\nIf y
 ou are a graduate student or a postdoctoral research fellow and\nare inter
 ested in providing a talk on your research\, be sure to submit\nyour abstr
 act on the registration page. 
DTSTAMP:20260426T023546Z
END:VEVENT
END:VCALENDAR