BEGIN:VCALENDAR
VERSION:2.0
PRODID:-//Drupal iCal API//EN
X-WR-CALNAME:Events items teaser
X-WR-TIMEZONE:America/Toronto
BEGIN:VTIMEZONE
TZID:America/Toronto
X-LIC-LOCATION:America/Toronto
BEGIN:DAYLIGHT
TZNAME:EDT
TZOFFSETFROM:-0500
TZOFFSETTO:-0400
DTSTART:20190310T070000
END:DAYLIGHT
BEGIN:STANDARD
TZNAME:EST
TZOFFSETFROM:-0400
TZOFFSETTO:-0500
DTSTART:20181104T060000
END:STANDARD
END:VTIMEZONE
BEGIN:VEVENT
UID:69e67bc6f056b
DTSTART;TZID=America/Toronto:20190916T093000
SEQUENCE:0
TRANSP:TRANSPARENT
DTEND;TZID=America/Toronto:20190916T120000
URL:https://uwaterloo.ca/math/events/heforshe-get-free-tour-campus-rally-an
 d-presidents-lecture
LOCATION:200 University Avenue West Waterloo ON N2L 3G1 Canada
SUMMARY:HeForShe Get Free Tour: Campus Rally and President's Lecture
CLASS:PUBLIC
DESCRIPTION:[HeForShe Logo] The UNIVERSITY OF WATERLOO is the first stop 
 on\nthe CANADIAN UNIVERSITY GET FREE TOUR hosted by UN Women. The\nprogr
 amming will begin at 9:30 a.m. with a campus rally to welcome\nthe HeForS
 he tour bus and special guests. Join us for music\,\nrefreshments and HeFo
 rShe giveaways.
DTSTAMP:20260420T191726Z
END:VEVENT
END:VCALENDAR