BEGIN:VCALENDAR
VERSION:2.0
PRODID:-//Drupal iCal API//EN
X-WR-CALNAME:Events items teaser
X-WR-TIMEZONE:America/Toronto
BEGIN:VTIMEZONE
TZID:America/Toronto
X-LIC-LOCATION:America/Toronto
BEGIN:DAYLIGHT
TZNAME:EDT
TZOFFSETFROM:-0500
TZOFFSETTO:-0400
DTSTART:20190310T070000
END:DAYLIGHT
BEGIN:STANDARD
TZNAME:EST
TZOFFSETFROM:-0400
TZOFFSETTO:-0500
DTSTART:20181104T060000
END:STANDARD
END:VTIMEZONE
BEGIN:VEVENT
UID:69ed3a007e838
DTSTART;TZID=America/Toronto:20190919T120000
SEQUENCE:0
TRANSP:TRANSPARENT
DTEND;TZID=America/Toronto:20190919T130000
URL:https://uwaterloo.ca/math/events/faculty-mathematics-postdoc-appreciati
 on-lunch
LOCATION:MC - Mathematics &amp; Computer Building 200 University Avenue West 55
 01 Waterloo ON N2L 3G1 Canada
SUMMARY:Faculty of Mathematics Postdoc Appreciation Lunch
CLASS:PUBLIC
DESCRIPTION:[Students working at a whiteboard]\n\nAs part of Postdoc Appr
 eciation Week (September 16th-20th)\, the\nFaculty of Mathematics is hosti
 ng an appreciation lunch on September\n19th in MC 5501 from 12:00 pm to 1:
 00 pm.
DTSTAMP:20260425T220240Z
END:VEVENT
END:VCALENDAR