BEGIN:VCALENDAR
VERSION:2.0
PRODID:-//Drupal iCal API//EN
X-WR-CALNAME:Events items teaser
X-WR-TIMEZONE:America/Toronto
BEGIN:VTIMEZONE
TZID:America/Toronto
X-LIC-LOCATION:America/Toronto
BEGIN:DAYLIGHT
TZNAME:EDT
TZOFFSETFROM:-0500
TZOFFSETTO:-0400
DTSTART:20190310T070000
END:DAYLIGHT
BEGIN:STANDARD
TZNAME:EST
TZOFFSETFROM:-0400
TZOFFSETTO:-0500
DTSTART:20181104T060000
END:STANDARD
END:VTIMEZONE
BEGIN:VEVENT
UID:69ed3a08e6df7
DTSTART;TZID=America/Toronto:20191025T193000
SEQUENCE:0
TRANSP:TRANSPARENT
DTEND;TZID=America/Toronto:20191025T193000
URL:https://uwaterloo.ca/math/events/bridges-lecture-series-glass-problem
LOCATION:STJ - St. Jerome's University 290 Westmount Road North Vanstone Le
 cture Hall\, St. Jerome's University Academic Centre Waterloo ON N2L 3G3 C
 anada
SUMMARY:Bridges Lecture Series - The Glass Problem
CLASS:PUBLIC
DESCRIPTION:CHANGING AND CHALLENGING MATERIAL DEFINITIONS\n\nDespite thousa
 nds of years of history\, glass still challenges our\nperceptions and defi
 nitions.\n\nIn this lecture\, Drs. Charbonneau and Larson tackle “the gl
 ass\nproblem”\, to explore and understand the mutable properties of a\nm
 aterial which is\, by definition\, disorderly.
DTSTAMP:20260425T220248Z
END:VEVENT
END:VCALENDAR