BEGIN:VCALENDAR
VERSION:2.0
PRODID:-//Drupal iCal API//EN
X-WR-CALNAME:Events items teaser
X-WR-TIMEZONE:America/Toronto
BEGIN:VTIMEZONE
TZID:America/Toronto
X-LIC-LOCATION:America/Toronto
BEGIN:DAYLIGHT
TZNAME:EDT
TZOFFSETFROM:-0500
TZOFFSETTO:-0400
DTSTART:20190310T070000
END:DAYLIGHT
BEGIN:STANDARD
TZNAME:EST
TZOFFSETFROM:-0400
TZOFFSETTO:-0500
DTSTART:20191103T060000
END:STANDARD
END:VTIMEZONE
BEGIN:VEVENT
UID:69e61400c95b7
DTSTART;TZID=America/Toronto:20191108T193000
SEQUENCE:0
TRANSP:TRANSPARENT
DTEND;TZID=America/Toronto:20191108T193000
URL:https://uwaterloo.ca/math/events/bridges-lecture-series-zombies-monster
 s-meaning
LOCATION:STJ - St. Jerome's University 290 Westmount Road North Vanstone Le
 cture Hall\, St. Jerome's University Academic Centre Waterloo ON N2L 3G3 C
 anada
SUMMARY:Bridges Lecture Series - Zombies: Monsters with Meaning
CLASS:PUBLIC
DESCRIPTION:What is it that makes us so scared of\, and yet so attracted to
 \, the\nliving dead? Why is it that shambling or sprinting corpses still\n
 retain such relentless power?\n\nDR. ARNOLD T. BLUMBERG presents a whirlwi
 nd look back at 100 years of\ncinematic zombies and their evolution into a
  modern pop culture icon\,\nwith special attention to the ways in which _N
 ight of the Living Dead\n_permanently impacted the media landscape.
DTSTAMP:20260420T115440Z
END:VEVENT
END:VCALENDAR