BEGIN:VCALENDAR
VERSION:2.0
PRODID:-//Drupal iCal API//EN
X-WR-CALNAME:Events items teaser
X-WR-TIMEZONE:America/Toronto
BEGIN:VTIMEZONE
TZID:America/Toronto
X-LIC-LOCATION:America/Toronto
BEGIN:DAYLIGHT
TZNAME:EDT
TZOFFSETFROM:-0500
TZOFFSETTO:-0400
DTSTART:20190310T070000
END:DAYLIGHT
BEGIN:STANDARD
TZNAME:EST
TZOFFSETFROM:-0400
TZOFFSETTO:-0500
DTSTART:20191103T060000
END:STANDARD
END:VTIMEZONE
BEGIN:VEVENT
UID:69e6ac0ea2def
DTSTART;TZID=America/Toronto:20200207T193000
SEQUENCE:0
TRANSP:TRANSPARENT
DTEND;TZID=America/Toronto:20200207T193000
URL:https://uwaterloo.ca/math/events/bridges-lecture-series-opening-spaces
LOCATION:STJ - St. Jerome's University 290 Westmount Road North Vanstone Le
 cture Hall\, St. Jerome's University Academic Centre Waterloo ON N2L 3G3 C
 anada
SUMMARY:Bridges Lecture Series - Opening Space/s
CLASS:PUBLIC
DESCRIPTION:Fifty years after the first lunar landing again we find the\nex
 ploration of space to be inviting.\n\nOur quest to open new spaces that ex
 tend wider and further than ever\nbefore promises immense scientific and t
 echnological milestones to be\nmet. It is also an occasion to converse abo
 ut vexing and relatively\nunexplored socio-political issues which such dis
 coveries entail. Does\nan expansion into space carve opportunities to impr
 ove or\, rather\,\nexacerbate our currently polarizing Earth-related physi
 cal and social\ndifficulties?
DTSTAMP:20260420T224326Z
END:VEVENT
END:VCALENDAR