BEGIN:VCALENDAR
VERSION:2.0
PRODID:-//Drupal iCal API//EN
X-WR-CALNAME:Events items teaser
X-WR-TIMEZONE:America/Toronto
BEGIN:VTIMEZONE
TZID:America/Toronto
X-LIC-LOCATION:America/Toronto
BEGIN:DAYLIGHT
TZNAME:EDT
TZOFFSETFROM:-0500
TZOFFSETTO:-0400
DTSTART:20190310T070000
END:DAYLIGHT
BEGIN:STANDARD
TZNAME:EST
TZOFFSETFROM:-0400
TZOFFSETTO:-0500
DTSTART:20181104T060000
END:STANDARD
END:VTIMEZONE
BEGIN:VEVENT
UID:69ed63fe7c558
DTSTART;TZID=America/Toronto:20191023T093000
SEQUENCE:0
TRANSP:TRANSPARENT
DTEND;TZID=America/Toronto:20191023T120000
URL:https://uwaterloo.ca/math/events/pancake-breakfast
LOCATION:M3 - Mathematics 3 200 University Avenue West Atrium Waterloo ON N
 2L 3G1 Canada
SUMMARY:Pancake breakfast
CLASS:PUBLIC
DESCRIPTION:[Stack of pancakes]
DTSTAMP:20260426T010150Z
END:VEVENT
END:VCALENDAR