BEGIN:VCALENDAR
VERSION:2.0
PRODID:-//Drupal iCal API//EN
X-WR-CALNAME:Events items teaser
X-WR-TIMEZONE:America/Toronto
BEGIN:VTIMEZONE
TZID:America/Toronto
X-LIC-LOCATION:America/Toronto
BEGIN:DAYLIGHT
TZNAME:EDT
TZOFFSETFROM:-0500
TZOFFSETTO:-0400
DTSTART:20190310T070000
END:DAYLIGHT
BEGIN:STANDARD
TZNAME:EST
TZOFFSETFROM:-0400
TZOFFSETTO:-0500
DTSTART:20181104T060000
END:STANDARD
END:VTIMEZONE
BEGIN:VEVENT
UID:69ed7aa888539
DTSTART;TZID=America/Toronto:20191025T120000
SEQUENCE:0
TRANSP:TRANSPARENT
DTEND;TZID=America/Toronto:20191025T140000
URL:https://uwaterloo.ca/math/events/women-entrepreneurship-week-wew-speake
 rs-series-hosted-1
LOCATION:E7 - Engineering 7 200 University Ave West Conrad School of Entrep
 reneurship and Business\, 2nd floor Hub/Lounge room Waterloo ON N2L 3G1 Ca
 nada
SUMMARY:Women in Entrepreneurship Week (WEW) Speakers Series hosted by the\
 nConrad School - Day 3
CLASS:PUBLIC
DESCRIPTION:WE’RE CELEBRATING WEW 2019 WITH STORIES FROM WOMEN ENTREPRENE
 URS AND\nTHEIR ALLIES.\n\nThe Conrad School of Entrepreneurship and Busine
 ss is hosting a lunch\nhour Speakers' Series as part of the annual Women E
 ntrepreneurship\nWeek 2019 global awareness and celebration. Please join u
 s to network\nand hear 20-minute presentations covering entrepreneurship t
 opics.\nLunch will be provided.
DTSTAMP:20260426T023832Z
END:VEVENT
END:VCALENDAR