BEGIN:VCALENDAR
VERSION:2.0
PRODID:-//Drupal iCal API//EN
X-WR-CALNAME:Events items teaser
X-WR-TIMEZONE:America/Toronto
BEGIN:VTIMEZONE
TZID:America/Toronto
X-LIC-LOCATION:America/Toronto
BEGIN:DAYLIGHT
TZNAME:EDT
TZOFFSETFROM:-0500
TZOFFSETTO:-0400
DTSTART:20190310T070000
END:DAYLIGHT
BEGIN:STANDARD
TZNAME:EST
TZOFFSETFROM:-0400
TZOFFSETTO:-0500
DTSTART:20191103T060000
END:STANDARD
END:VTIMEZONE
BEGIN:VEVENT
UID:69ed3a1571285
DTSTART;TZID=America/Toronto:20191105T173000
SEQUENCE:0
TRANSP:TRANSPARENT
DTEND;TZID=America/Toronto:20191105T173000
URL:https://uwaterloo.ca/math/events/women-math-lean-circle-math-students
LOCATION:MC - Mathematics &amp; Computer Building 200 University Avenue West Ro
 om 5501 Waterloo ON N2L 3G1 Canada
SUMMARY:Women in Math Lean in Circle for Math Students
CLASS:PUBLIC
DESCRIPTION:WiM is excited to host the first lean-in circle event of the se
 mester\non Tuesday\, November 5. Undergraduate and graduate students are\n
 invited to come and join the conversation! \n\nThe lean-in circle events a
 re an opportunity for female students to\nshare experiences and get advice
  on how to navigate the school and\nworkplace from other women.\n\nPizza a
 nd refreshments will be provided. If you are planning to\nattend\, please 
 register online\n[https://www.ticketfi.com/event/3507/wim-lean-in-circle].
  
DTSTAMP:20260425T220301Z
END:VEVENT
END:VCALENDAR